BEGIN:VCALENDAR
VERSION:2.0
PRODID:-//ChamberMaster//Event Calendar 2.0//EN
METHOD:PUBLISH
X-PUBLISHED-TTL:P3D
REFRESH-INTERVAL:P3D
CALSCALE:GREGORIAN
BEGIN:VEVENT
DTSTART;VALUE=DATE:20140520
DTEND;VALUE=DATE:20140521
TRANSP:TRANSPARENT
X-MICROSOFT-CDO-ALLDAYEVENT:TRUE
SUMMARY:11th ASEAN Finance Ministers Investment Seminar
DESCRIPTION:11th ASEAN Finance Ministers Investment Seminar
X-ALT-DESC;FMTTYPE=text/html:<span style="font-size:11.0pt\;">11th ASEAN Finance Ministers Investment Seminar</span>
LOCATION:Manila\, Philippines
UID:e.9078.1112
SEQUENCE:3
DTSTAMP:20260420T125719Z
URL:http://usasean.memberzone.com/events/details/11th-asean-finance-ministers-investment-seminar-05-20-2014-1112
END:VEVENT

END:VCALENDAR
